BEGIN:VCALENDAR
VERSION:2.0
PRODID:icalendar-ruby
CALSCALE:GREGORIAN
METHOD:PUBLISH
BEGIN:VEVENT
DTSTAMP:20260424T192551Z
UID:15-1024615@ironwoodchurch.com
DTSTART:20261101T160000Z
DTEND:20261101T170000Z
CLASS:PUBLIC
CREATED:20260424T135932
DESCRIPTION:
LAST-MODIFIED:20260424T135932
LOCATION:
SUMMARY:Sunday Morning Worship and The Word
URL;VALUE=URI:https://ironwoodchurch.com/events/sunday-morning-worship-and-
 the-word/2026-11-01
ATTACH;FILENAME=SundayAM2_1500x784.jpg;FMTTYPE=image/jpeg:https://dq5pwpg1q
 8ru0.cloudfront.net/2025/02/17/23/33/35/cd487b95-e719-4cec-a11d-0af97f154d
 8b/SundayAM2_1500x784.jpg
END:VEVENT
END:VCALENDAR
